BEGIN:VCALENDAR
VERSION:2.0
PRODID:-//www.northeastraces.com//northeastraces//EN
METHOD:PUBLISH
BEGIN:VEVENT
UID:2026-10-04-penshaw-10k@www.northeastraces.com
DESCRIPTION:details=http://www.northeastraces.com/#2026-10-04-penshaw-10k\, length=10K\, cd=?\, eods=?\, results=?
LOCATION:DH4 7NJ (Penshaw)
SUMMARY:Penshaw 10K at 1000/1015\, cd=?\, eods=?
DTSTART;VALUE=DATE:20261004
DTEND;VALUE=DATE:20261004
DTSTAMP:20260424T063745Z
URL:http://www.northeastraces.com/#2026-10-04-penshaw-10k
END:VEVENT
END:VCALENDAR