BEGIN:VCALENDAR
VERSION:2.0
PRODID:-//www.northeastraces.com//northeastraces//EN
METHOD:PUBLISH
BEGIN:VEVENT
UID:2026-10-11-richmond@www.northeastraces.com
DESCRIPTION:details=http://www.northeastraces.com/#2026-10-11-richmond\, length=10K\, cd=?\, eods=limited\, results=?
LOCATION:DL10 4LU (Richmond)
SUMMARY:Richmond Castle 10K at 1100\, cd=?\, eods=limited
DTSTART:20261011T110000Z
DTEND:20261011T120000Z
DTSTAMP:20260424T083054Z
URL:http://www.northeastraces.com/#2026-10-11-richmond
END:VEVENT
END:VCALENDAR