BEGIN:VCALENDAR
VERSION:2.0
PRODID:-//www.northeastraces.com//northeastraces//EN
METHOD:PUBLISH
BEGIN:VEVENT
UID:2026-10-11-sheffield@www.northeastraces.com
DESCRIPTION:details=http://www.northeastraces.com/#2026-10-11-sheffield\, length=10K\, cd=?\, eods=?\, results=no_results
LOCATION:S11 7AB (Sheffield)
SUMMARY:Sheffield Endcliffe Park 10K - TenTenTen\, cd=?\, eods=?
DTSTART;VALUE=DATE:20261011
DTEND;VALUE=DATE:20261011
DTSTAMP:20260424T084726Z
URL:http://www.northeastraces.com/#2026-10-11-sheffield
END:VEVENT
END:VCALENDAR